BEGIN:VCALENDAR
VERSION:2.0
PRODID:-//Local Rental Team - ECPv6.15.20//NONSGML v1.0//EN
CALSCALE:GREGORIAN
METHOD:PUBLISH
X-WR-CALNAME:Local Rental Team
X-ORIGINAL-URL:https://localrentalteam.com
X-WR-CALDESC:Events for Local Rental Team
REFRESH-INTERVAL;VALUE=DURATION:PT1H
X-Robots-Tag:noindex
X-PUBLISHED-TTL:PT1H
BEGIN:VTIMEZONE
TZID:America/Phoenix
BEGIN:STANDARD
TZOFFSETFROM:-0700
TZOFFSETTO:-0700
TZNAME:MST
DTSTART:20240101T000000
END:STANDARD
END:VTIMEZONE
BEGIN:VTIMEZONE
TZID:America/Los_Angeles
BEGIN:DAYLIGHT
TZOFFSETFROM:-0800
TZOFFSETTO:-0700
TZNAME:PDT
DTSTART:20240310T100000
END:DAYLIGHT
BEGIN:STANDARD
TZOFFSETFROM:-0700
TZOFFSETTO:-0800
TZNAME:PST
DTSTART:20241103T090000
END:STANDARD
BEGIN:DAYLIGHT
TZOFFSETFROM:-0800
TZOFFSETTO:-0700
TZNAME:PDT
DTSTART:20250309T100000
END:DAYLIGHT
BEGIN:STANDARD
TZOFFSETFROM:-0700
TZOFFSETTO:-0800
TZNAME:PST
DTSTART:20251102T090000
END:STANDARD
BEGIN:DAYLIGHT
TZOFFSETFROM:-0800
TZOFFSETTO:-0700
TZNAME:PDT
DTSTART:20260308T100000
END:DAYLIGHT
BEGIN:STANDARD
TZOFFSETFROM:-0700
TZOFFSETTO:-0800
TZNAME:PST
DTSTART:20261101T090000
END:STANDARD
END:VTIMEZONE
BEGIN:VEVENT
DTSTART;TZID=America/Phoenix:20251220T150000
DTEND;TZID=America/Phoenix:20251220T160000
DTSTAMP:20260421T132234
CREATED:20251201T163147Z
LAST-MODIFIED:20251201T163147Z
UID:2395-1766242800-1766246400@localrentalteam.com
SUMMARY:The Aerial Nutcracker: A Narrative Circus Production
DESCRIPTION:Join us for an incredible aerial and theater show\, performed by the Narrative Circus & Aerial Flow Classes of Autumn 2025!\n\n\nMomentum Aerial presents their second narrative production this winter\, “The Nutcracker!” \nThe story of Clara\, the nutcracker\, & the mouse king is back– with a new aerial twist you’ve never seen before! The production features aerial dance interwoven into a play format\, where the classic moments of the Nutcracker will be presented through circus arts! Featuring some of the original music by Tchaikovsky\, with other music to keep this production fresh and exciting. The cast includes seven actor-aerialists who are a part of our narrative aerial class\, and the show is supported by performances from fall semester aerial classes. This production is family friendly and runs at around an hour in length. The show is one day only\, December 20th\, at both 3 and 6 pm at Momentum Aerial.
URL:https://localrentalteam.com/event/the-aerial-nutcracker-a-narrative-circus-production/
LOCATION:Momentum Aerial\, 1802 West Kaibab Lane Studio C\, Suite 140\, Flagstaff\, AZ 86001\, Flagstaff\, AZ\, 86001\, US
ATTACH;FMTTYPE=image/png:https://localrentalteam.com/wp-content/uploads/2025/12/2395_image.png
END:VEVENT
BEGIN:VEVENT
DTSTART;TZID=America/Phoenix:20251221T140000
DTEND;TZID=America/Phoenix:20251221T160000
DTSTAMP:20260421T132234
CREATED:20251201T163330Z
LAST-MODIFIED:20251201T163330Z
UID:2412-1766325600-1766332800@localrentalteam.com
SUMMARY:Sweet Baby Ray's Holiday Special
DESCRIPTION:Sweet Baby Ray headlines with guest S.E. Willis\, both Arizona Blues Hall of Fame inductees\,  joined by the soulful Church of Blues ensemble.\n\n\nMark your calendar for an unforgettable afternoon of soul-stirring music! On Sunday\, December 21\, 2025\, from 2–4 p.m.\, Church of Blues proudly presents a special concert featuring Sweet Baby Ray\, Arizona Blues Hall of Fame inductee\, with a guest appearance by fellow Hall of Famer S. E. Willis. Both legends bring their signature energy\, storytelling\, and mastery to the stage for this winter celebration of rhythm and soul. Joined by the talented Church of Blues ensemble\, the event promises a rich blend of classic blues\, heartfelt improvisation\, and spiritual resonance. Come experience the power of music that uplifts\, unites\, and reminds us why the blues endures — deep\, raw\, and beautifully human.
URL:https://localrentalteam.com/event/sweet-baby-rays-holiday-special/
LOCATION:Lux Verde Hotel\, 301 Arizona 89A\, Cottonwood\, AZ 86326\, Cottonwood\, AZ\, 86326\, US
ATTACH;FMTTYPE=image/jpeg:https://localrentalteam.com/wp-content/uploads/2025/12/2412_image.jpg
END:VEVENT
BEGIN:VEVENT
DTSTART;TZID=America/Los_Angeles:20251222T170000
DTEND;TZID=America/Los_Angeles:20251222T180000
DTSTAMP:20260421T132234
CREATED:20251201T163119Z
LAST-MODIFIED:20251201T163119Z
UID:2387-1766422800-1766426400@localrentalteam.com
SUMMARY:The love stories behind the biggest whisky brands (BYOB)
DESCRIPTION:Discover the juicy love tales that sparked the world’s biggest whisky brands—sip and spill online with us!\n\n\nJoin us online for a beautiful storytelling session: The Love Stories Behind the World’s Most Iconic Whisk(e)y Brands. \nWhisky isn’t just about barley\, barrels\, and oceans of time – it’s about people. Passion. Devotion. And the unforgettable love stories that shaped some of the greatest spirits ever made. \nDid you know that Masataka Taketsuru\, the father of Japanese whisky\, traveled to Scotland in 1918 to study distilling — and fell in love not only with Scotch\, but with a Scottish woman named Rita Cowan\, who became his partner\, muse\, and the quiet force behind Nikka? \nOr that Four Roses takes its name from a romantic gesture\, a man declaring his love with four roses worn close to the heart? \nAnd of course\, Laphroaig \, a distillery whose history is filled with perseverance\, dramatic family rivalries\, and the pioneering leadership of Bessie Williamson\, the first female distillery manager of the 20th century and the woman who carried the distillery through war\, innovation\, and global fame. \nThese stories shaped the bottles we love today… and tonight\, we’re diving into all of them! \nBring your favorite pour\, settle into something cozy\, and join me for an evening of romance\, history\, and the spirited love affairs that shaped the whisky world. \nMUST BE 21+ TO ATTEND
URL:https://localrentalteam.com/event/the-love-stories-behind-the-biggest-whisky-brands-byob/
LOCATION:Online Event
ATTACH;FMTTYPE=image/jpeg:https://localrentalteam.com/wp-content/uploads/2025/12/2387_image-scaled.jpg
END:VEVENT
BEGIN:VEVENT
DTSTART;TZID=America/Phoenix:20251228T090000
DTEND;TZID=America/Phoenix:20251228T110000
DTSTAMP:20260421T132234
CREATED:20251201T163920Z
LAST-MODIFIED:20251201T163920Z
UID:2441-1766912400-1766919600@localrentalteam.com
SUMMARY:Sunday Services
DESCRIPTION:Please come join us in our worship of our Savior Jesus Christ this Sunday at 9AM\, we are located in the brown church building on Lake Mary Road. Community Members teach sermons and bear testimony of Christ in the first hour\, in the chapel. A testimony is a knowledge and a spiritual witness given by the Holy Ghost. In the second hour\, different age groups have separate sessions for class. \nAll are welcome to join us! We look forward to seeing you! \n \nhttps://local.churchofjesuschrist.org/en/units/us/az/kelly-canyon-ward/events/sunday-services-20251228
URL:https://localrentalteam.com/event/sunday-services/
LOCATION:Lake Mary Church Building\, 4165 Lake Mary Road\, Flagstaff\, AZ 86005\, Flagstaff\, AZ\, 86005\, US
ATTACH;FMTTYPE=image/png:https://localrentalteam.com/wp-content/uploads/2025/12/2441_image.png
END:VEVENT
BEGIN:VEVENT
DTSTART;TZID=America/Phoenix:20260124T200000
DTEND;TZID=America/Phoenix:20260124T233000
DTSTAMP:20260421T132234
CREATED:20251201T163903Z
LAST-MODIFIED:20251201T163903Z
UID:2436-1769284800-1769297400@localrentalteam.com
SUMMARY:The Brainworms with Matteo Amaretto
DESCRIPTION:Newly formed “The Brainworms”\, featuring He Who Cannot Be Named\, Dave Wolfe\, Lou Moretti\, and more!\n\n\nThe Brainworms wiggle their way into your hearts and heads this January! This new collaborative group\, formed of He Who Cannot Be Named\, Dave Wolfe\, and more brings the roots rock rep to Cottonwood. With Matteo Amaretto to open the night\, this set showcases the true soulful range of music that transcends genre! \n$10 adv / $15 dos \nDoors 7pm \nShow begins 8pm
URL:https://localrentalteam.com/event/the-brainworms-with-matteo-amaretto/
LOCATION:Queen B Vinyl Café\, 102 East Pima Street\, Cottonwood\, AZ 86326\, Cottonwood\, AZ\, 86326\, US
ATTACH;FMTTYPE=image/jpeg:https://localrentalteam.com/wp-content/uploads/2025/12/2436_image.jpg
END:VEVENT
BEGIN:VEVENT
DTSTART;TZID=America/Phoenix:20260130T193000
DTEND;TZID=America/Phoenix:20260130T213000
DTSTAMP:20260421T132234
CREATED:20251201T163601Z
LAST-MODIFIED:20251201T163601Z
UID:2428-1769801400-1769808600@localrentalteam.com
SUMMARY:Greenhouse Productions Presents: Kalos
DESCRIPTION:Music inspired by the maritime traditions of Scotland\, Ireland\, Scandinavia and North America.\n\n\nKalos is drawn to water. Every performance is like stepping into a river—they never play a song the same way twice. They make music inspired by the maritime traditions of Scotland\, Ireland\, Scandinavia and North America. Their album titles—Harbour and Headland—honor the meeting point between the land and sea and they sing songs about shorelines\, seafarers and drownings. They revel in the driving danceability of Irish tunes\, but also take inspiration from the pastoral melodies and naturalistic metaphors of Scottish music. But while the music they write is forged in tradition\, it is nonetheless cast and tempered in new and unexpected ways.The trio spans three generations\, three cities and two countries. Ryan McKasson (violin\, viola\, voice)\, Eric McDonald (guitar\, mandolin\, voice) and Jeremiah McLane (accordion\, piano\, voice) met over the years at highland games\, contra dances and fiddle camps across North America. They made their first recording in 2016 and have been touring together since 2019. Kalos prizes the magic of live performance—breathing\, dancing and weaving together like high-wire acrobats. They are as generous as they are virtuosic. Like nature itself\, their music is full of chaos and chance yet always feels spacious and balanced. Their concerts are more an exposé than a performance—they are immersive\, trance-inducing experiences.Kalos appreciates how acoustic music can be a balm\, a respite in the midst of our radio-static modern life. “As noisy as music is\, it feels like meditation compared to the clatter of social media\,” McLane muses. All three band members come from Scottish immigrant families\, so even when they venture beyond the edges of traditional Celtic music they remain deeply connected to past centuries and forgotten folkways. The acoustic instruments they play are made of sonorous wood—mahogany\, spruce\, ebony—and the band is always attuned to the sonic quality of the spaces they play in. They love a reverberant church or a forest green encircled by the far-off hum of cicadas.Kalos is an ancient Greek word that means “beautiful” or “praiseworthy.” It’s the root of the English words “calligraphy” and “calisthenics.” Like a fine calligrapher or adept gymnast\, each musician possesses a profound attention to detail and form. But within the exquisite architecture of their compositions\, they remain inventive—finding new flourishes and discovering unseen ley lines in the fertile ground of traditional music. Folk Worlds magazine says\, “There’s a spontaneity at work as the three musicians alternately contest and duel\, combine and coalesce to bring their talents together.  \n”Kalos has performed at the Lotus Festival (Bloomington\, IN)\, New Bedford Folk Festival (New Bedford\, MA)\, New World Festival (Randolph\, VT)\, Gracie Center (Bangor\, ME)\, Old Town School of Folk Music (Chicago\, IL)\, Seattle Folklore Society (Seattle\, WA) and more. They have taught workshops and masterclasses at Tufts University (Somerville\, MA)\, Celtic Arts Foundation (Mount Vernon\, WA) and Valley of the Moon Scottish Fiddle School (Boulder Creek\, CA). With music that enlivens the human spirit\, Kalos brings warmth\, grit and exuberance to every performance
URL:https://localrentalteam.com/event/greenhouse-productions-presents-kalos/
LOCATION:Coconino Center for the Arts\, 2300 N Fort Valley Rd\, Flagstaff\, AZ 86001\, Flagstaff\, AZ\, 86001\, US
ATTACH;FMTTYPE=image/jpeg:https://localrentalteam.com/wp-content/uploads/2025/12/2428_image-scaled.jpg
END:VEVENT
BEGIN:VEVENT
DTSTART;TZID=America/Phoenix:20260228T080000
DTEND;TZID=America/Phoenix:20260228T153000
DTSTAMP:20260421T132234
CREATED:20251201T163134Z
LAST-MODIFIED:20251201T163134Z
UID:2391-1772265600-1772292600@localrentalteam.com
SUMMARY:Discover NAU
DESCRIPTION:This event brings together college-bound students and their families for an engaging and interactive look at NAU’s programs and services.\n\n\nDiscover NAU Events Include: \n\nExpo highlighting NAU’s student support and resources.\nNeed to know admissions and career readiness information\nA Q&A panel with current students.\nA presentation from your academic area of interest.\nLunch at one of our on-campus All-You-Care-To-Eat facilities.\nA one-hour walking campus tour.\nA chance to meet with the Honors College & tour their facilities\nDetails on how to connect with us after the event\, including how to schedule an appointment with an admissions team member\n\n \nEnhanced Honors ExperienceAvailable on October 11\, November 22\, and February 28 \nTake your Discover NAU visit a step further with an Enhanced Honors College Breakout Session. These special sessions include: \n\nConversations with Honors faculty\nA look at classroom activities and discussions\nNetworking opportunities with current Honors students\n\nHonors sessions are offered on all Discover NAU dates\, with the enhanced experience available on the dates above.
URL:https://localrentalteam.com/event/discover-nau/
LOCATION:P96B NAU San Francisco Parking Structure\, 1101 South San Francisco Street\, Flagstaff\, AZ 86011\, Flagstaff\, AZ\, 86011\, US
ATTACH;FMTTYPE=image/jpeg:https://localrentalteam.com/wp-content/uploads/2025/12/2391_image.jpg
END:VEVENT
BEGIN:VEVENT
DTSTART;TZID=America/Phoenix:20260710T170000
DTEND;TZID=America/Phoenix:20260712T120000
DTSTAMP:20260421T132234
CREATED:20251201T163623Z
LAST-MODIFIED:20251201T163623Z
UID:2431-1783702800-1783857600@localrentalteam.com
SUMMARY:Whoa Man...an unexpected camping experience
DESCRIPTION:https://whoaman.info\n\n\nWHOA MAN…an unexpected camping experience* no longer up in northern AZ-THIS WILL BE IN SOUTHWEST AZ IN 2026 (ALMOST CALIFORNIA)\nhttps://whoaman.info \n)–(˳˘ ɜ˘)˳ ♬♪♫ \n………………………. —— …__\,)_)0 ♪～(´ε｀ ) \n(；◔ิз◔ิ)～♪♬ \n* \n* \n* \nM̸̺͕̒̾̽͜u̴͕̠̦͊́̐s̵̡̞͉͛̕̕i̵̞͚͌͑͝c̵͎̦̿̒̈́͜ i̵͔̠̿̔s̴͓͚͓͑͋́ L̸̢͇͔͒̕͝o̵̡̻͋͛͠v̵̺̪̺̿͋ë̵͙͔́͌̚͜ \n* \n* \n* \n* July 10th & 11th 2026 there will be a time to carpe diem the day- and weekend ey? \nThe event is being held on the edge of Arizona & California-just 2 or 3 hrs from Phoenix or San Diego at a lake on BLM Land permitting public use. Very far from Flagstaff afterall! The Eventbrite platform won’t recognize YUMA AZ for some reason but it’s about 15-20 miles north of that town.\n \n \nhttps://www.facebook.com/events/300596432419275 \n \n \nWHOA MAN HAS BECOME A NON PROFIT ENTITY OPERATING SOLELY FROM PERSONAL FUNDS & DONATIONS FROM OUR SUPPORTERS\, YOU CAN DONATE YOURSELF BY CLICKING ON THE TICKET LINK(there is no set ticket price\, no food vendors allowed btw due to permit\, no drink vendors due to restrictions\, other small non corporate vendors are permitted)\n \nhttps://www.eventbrite.com/e/whoa-manan-unexpected-camping-experience-tickets-149162433855 \n \nORIGINAL TICKETS WILL STILL BE HONORED- we rescheduled due to Arizona wildfires \n \nThere will be multiple stages\, live art\, vendors and more. Dance Safe will be providing free water and chill spaces for all. Let’s have an amazing time and be well hydrated to feel great so we’ll all say hooray! \nSound camps are permitted with approval-no huge setups will be allowed this time \n \n \nFeaturing:\n \nRobots with Rayguns\, creator of Synthwave genre ;D\n14\,770 monthly listeners on Spotify \n \nMuch more tba \n \nDJ’s and bands who want to perform should contact Atomic Logic Audio\, you can text (480)256-2363*** \n \n \nmuch more tba \nCARPOOL CARPOOL CARPOOL there is limited parking spaces at this venue\, split gas with others and give rides please \n \nhttps://www.facebook.com/events/300596432419275 \n \nVendors are allowed after being approved by emailing atomiclogicaudio@gmail.com \n \nhttps://www.facebook.com/events/300596432419275 \n \nPAGE UNDER CONSTRUCTION
URL:https://localrentalteam.com/event/whoa-man-an-unexpected-camping-experience/
LOCATION:Private land \, on the edge of  Flagstaff AZ\, 123 tba st (private property)\, Flagstaff\, AZ 86003\, Flagstaff\, AZ\, 86003\, US
ATTACH;FMTTYPE=image/jpeg:https://localrentalteam.com/wp-content/uploads/2025/12/2431_image.jpg
END:VEVENT
END:VCALENDAR